BEGIN:VCALENDAR
VERSION:2.0
PRODID:-//13.249.38.51//NONSGML kigkonsult.se iCalcreator 2.26.9//
CALSCALE:GREGORIAN
METHOD:PUBLISH
X-WR-CALNAME:New Mexico State Investment Council
X-WR-CALDESC:The New Mexico State Investment Council (SIC) manages New Mexi
 co&#039\;s $29 billion permanent endowment\, including the Land Grant and 
 Severance Tax Permanent Funds\, as well as investments for 23 other govern
 mental clients.
X-FROM-URL:https://www.sic.state.nm.us
X-WR-TIMEZONE:America/Denver
BEGIN:VTIMEZONE
TZID:America/Denver
X-LIC-LOCATION:America/Denver
BEGIN:STANDARD
DTSTART:20211107T020000
TZOFFSETFROM:-0600
TZOFFSETTO:-0700
RDATE:20221106T020000
TZNAME:MST
END:STANDARD
BEGIN:DAYLIGHT
DTSTART:20210314T020000
TZOFFSETFROM:-0700
TZOFFSETTO:-0600
RDATE:20220313T020000,20230312T020000
TZNAME:MDT
END:DAYLIGHT
END:VTIMEZONE
BEGIN:VEVENT
UID:ai1ec-26510@www.sic.state.nm.us
DTSTAMP:20210930T072000Z
CATEGORIES:
CONTACT:
DESCRIPTION:<div class='et-l et-l--post'>\n			<div class='et_builder_inner_con
 tent et_pb_gutters3'>\n		\n		</div>\n	</div>
DTSTART;TZID=America/Denver:20210525T090000
EXDATE;TZID=America/Denver:20210727T090000
RRULE:FREQ=MONTHLY;BYDAY=4TU
SEQUENCE:0
SUMMARY:State Investment Council Meeting
URL:https://www.sic.state.nm.us/event/state-investment-council-meeting/
X-COST-TYPE:free
X-INSTANT-EVENT:1
END:VEVENT
END:VCALENDAR
